BEGIN:VCALENDAR
VERSION:2.0
PRODID:-//Dartford and White Oak Triathlon club - ECPv6.0.10//NONSGML v1.0//EN
CALSCALE:GREGORIAN
METHOD:PUBLISH
X-WR-CALNAME:Dartford and White Oak Triathlon club
X-ORIGINAL-URL:https://www.dartfordandwhiteoaktri.co.uk
X-WR-CALDESC:Events for Dartford and White Oak Triathlon club
REFRESH-INTERVAL;VALUE=DURATION:PT1H
X-Robots-Tag:noindex
X-PUBLISHED-TTL:PT1H
BEGIN:VTIMEZONE
TZID:Europe/London
BEGIN:DAYLIGHT
TZOFFSETFROM:+0000
TZOFFSETTO:+0100
TZNAME:BST
DTSTART:20200329T010000
END:DAYLIGHT
BEGIN:STANDARD
TZOFFSETFROM:+0100
TZOFFSETTO:+0000
TZNAME:GMT
DTSTART:20201025T010000
END:STANDARD
END:VTIMEZONE
BEGIN:VEVENT
DTSTART;TZID=Europe/London:20200818T190000
DTEND;TZID=Europe/London:20200818T203000
DTSTAMP:20260423T104206
CREATED:20200109T223445Z
LAST-MODIFIED:20200807T093842Z
UID:2567-1597777200-1597782600@www.dartfordandwhiteoaktri.co.uk
SUMMARY:Bridge Events Midweek Aquathlon Race 4
DESCRIPTION:Midweek Aquathlon Race 4\n \nRace 1 – 19th May 2020 7.00pm start \nRace 2 – 9th June 2020 7.30pm start \nRace 3 – 14th July 2020 7\,30pm start \nRace 4 – 11th Aug 2020 7.30pm start
URL:https://www.dartfordandwhiteoaktri.co.uk/event/bridge-events-midweek-aquathlon-race-4/
LOCATION:Lake – John\, DA1 5UP
CATEGORIES:Aquathon,Run,Swim
END:VEVENT
END:VCALENDAR