BEGIN:VCALENDAR
VERSION:2.0
PRODID:-//Dartford and White Oak Triathlon club - ECPv6.0.10//NONSGML v1.0//EN
CALSCALE:GREGORIAN
METHOD:PUBLISH
X-ORIGINAL-URL:https://www.dartfordandwhiteoaktri.co.uk
X-WR-CALDESC:Events for Dartford and White Oak Triathlon club
REFRESH-INTERVAL;VALUE=DURATION:PT1H
X-Robots-Tag:noindex
X-PUBLISHED-TTL:PT1H
BEGIN:VTIMEZONE
TZID:Europe/London
BEGIN:DAYLIGHT
TZOFFSETFROM:+0000
TZOFFSETTO:+0100
TZNAME:BST
DTSTART:20220327T010000
END:DAYLIGHT
BEGIN:STANDARD
TZOFFSETFROM:+0100
TZOFFSETTO:+0000
TZNAME:GMT
DTSTART:20221030T010000
END:STANDARD
END:VTIMEZONE
BEGIN:VEVENT
DTSTART;TZID=Europe/London:20220721T190000
DTEND;TZID=Europe/London:20220721T200000
DTSTAMP:20260421T092638
CREATED:20211218T170053Z
LAST-MODIFIED:20220628T211418Z
UID:9632-1658430000-1658433600@www.dartfordandwhiteoaktri.co.uk
SUMMARY:Run Training
DESCRIPTION:Sessions created by Ian Martin. \nThursdays starting 7pm\, for up to one hour. \nRun sessions using routes around Greenhithe. \n 
URL:https://www.dartfordandwhiteoaktri.co.uk/event/run-training-26-05-22-2-2-2-2-2-2-2-2/
LOCATION:Asda Car Park (Greenhithe)\, Charles St\, Greenhithe\, DA9 9BT
CATEGORIES:Run
END:VEVENT
END:VCALENDAR