BEGIN:VCALENDAR
VERSION:2.0
PRODID:-//Dartford and White Oak Triathlon club - ECPv6.0.10//NONSGML v1.0//EN
CALSCALE:GREGORIAN
METHOD:PUBLISH
X-ORIGINAL-URL:https://www.dartfordandwhiteoaktri.co.uk
X-WR-CALDESC:Events for Dartford and White Oak Triathlon club
REFRESH-INTERVAL;VALUE=DURATION:PT1H
X-Robots-Tag:noindex
X-PUBLISHED-TTL:PT1H
BEGIN:VTIMEZONE
TZID:Europe/London
BEGIN:DAYLIGHT
TZOFFSETFROM:+0000
TZOFFSETTO:+0100
TZNAME:BST
DTSTART:20180325T010000
END:DAYLIGHT
BEGIN:STANDARD
TZOFFSETFROM:+0100
TZOFFSETTO:+0000
TZNAME:GMT
DTSTART:20181028T010000
END:STANDARD
END:VTIMEZONE
BEGIN:VEVENT
DTSTART;TZID=Europe/London:20180401T093000
DTEND;TZID=Europe/London:20180401T123000
DTSTAMP:20260421T115130
CREATED:20180315T125357Z
LAST-MODIFIED:20180315T125357Z
UID:1788-1522575000-1522585800@www.dartfordandwhiteoaktri.co.uk
SUMMARY:Sevenoaks Loop Off
DESCRIPTION:Sevenoaks Loop Off and Get Together\nWe will be cycling loops of the Sevenoaks Triathlon Bike Course and finishing off with refreshments at the Sevenoaks Leisure Centre Cafe. \nThis is in training for the Sevenoaks Tri but EVERYONE is welcome to attend.  You can do one loop or more if you wish.
URL:https://www.dartfordandwhiteoaktri.co.uk/event/sevenoaks-loop-off/
LOCATION:Sevenoaks Leisure Centre\, Buckhurst Ln\, Sevenoaks\, TN13 1LW\, United Kingdom
CATEGORIES:Bike,Social
END:VEVENT
BEGIN:VEVENT
DTSTART;TZID=Europe/London:20180329T193000
DTEND;TZID=Europe/London:20180329T230000
DTSTAMP:20260421T115130
CREATED:20180324T190647Z
LAST-MODIFIED:20180324T192127Z
UID:1848-1522351800-1522364400@www.dartfordandwhiteoaktri.co.uk
SUMMARY:Curry Night
DESCRIPTION:Club Social Curry Night\nEVERYONE WELCOME – Come and join us for our next social night at: \nJalsha Tandoori\n169-171 Station Rd\nSIDCUP\nDA15 7AA \nThursday 29th March 2018 @ 7:30pm \nhttp://www.jalsha.co.uk/ \n 
URL:https://www.dartfordandwhiteoaktri.co.uk/event/curry-night/
LOCATION:Jalsha Tandoori\, 169-171 Station Rd\, Sidcup\, DA15 7AA\, United Kingdom
CATEGORIES:Social
ATTACH;FMTTYPE=image/png:https://www.dartfordandwhiteoaktri.co.uk/wp-content/uploads/2018/03/jalsha.png
END:VEVENT
BEGIN:VEVENT
DTSTART;TZID=Europe/London:20180318T103000
DTEND;TZID=Europe/London:20180318T130000
DTSTAMP:20260421T115130
CREATED:20180129T223119Z
LAST-MODIFIED:20180201T102558Z
UID:1654-1521369000-1521378000@www.dartfordandwhiteoaktri.co.uk
SUMMARY:Hastings Half Marathon
DESCRIPTION:We’re planning a social ride down to Hastings on the day before the half marathon with an overnight stay in a beach front hotel.  Join us for the ride or travel down on the day for the race.
URL:https://www.dartfordandwhiteoaktri.co.uk/event/hastings-half-marathon/
LOCATION:Hastings\, St Leonards\, Hastings\, TN380FD\, United Kingdom
CATEGORIES:Bike,Run,Social
ATTACH;FMTTYPE=image/png:https://www.dartfordandwhiteoaktri.co.uk/wp-content/uploads/2018/01/hastings.png
END:VEVENT
END:VCALENDAR