BEGIN:VCALENDAR
VERSION:2.0
PRODID:-//Dartford and White Oak Triathlon club - ECPv6.0.10//NONSGML v1.0//EN
CALSCALE:GREGORIAN
METHOD:PUBLISH
X-WR-CALNAME:Dartford and White Oak Triathlon club
X-ORIGINAL-URL:https://www.dartfordandwhiteoaktri.co.uk
X-WR-CALDESC:Events for Dartford and White Oak Triathlon club
REFRESH-INTERVAL;VALUE=DURATION:PT1H
X-Robots-Tag:noindex
X-PUBLISHED-TTL:PT1H
BEGIN:VTIMEZONE
TZID:Europe/London
BEGIN:DAYLIGHT
TZOFFSETFROM:+0000
TZOFFSETTO:+0100
TZNAME:BST
DTSTART:20220327T010000
END:DAYLIGHT
BEGIN:STANDARD
TZOFFSETFROM:+0100
TZOFFSETTO:+0000
TZNAME:GMT
DTSTART:20221030T010000
END:STANDARD
END:VTIMEZONE
BEGIN:VEVENT
DTSTART;TZID=Europe/London:20221102T210000
DTEND;TZID=Europe/London:20221102T220000
DTSTAMP:20260425T144026
CREATED:20221102T093727Z
LAST-MODIFIED:20221102T093919Z
UID:10290-1667422800-1667426400@www.dartfordandwhiteoaktri.co.uk
SUMMARY:Pool Swim White Oak
DESCRIPTION:Pool Swim New White Oak\nWednesday swim in 25m pool \nSwim sessions for the time being will be 6 lanes on Wednesday evenings 9:00 pm to 10:00 pm. \nWe are limiting each lane to 6 swimmers.
URL:https://www.dartfordandwhiteoaktri.co.uk/event/pool-swim-white-oak-02-11-22/
LOCATION:White Oak Leisure Centre\, Hilda May Avenue\, Swanley\, BR8 7BT\, United Kingdom
CATEGORIES:Swim
ATTACH;FMTTYPE=image/jpeg:https://www.dartfordandwhiteoaktri.co.uk/wp-content/uploads/2020/08/newWhiteOakPool.jpg
END:VEVENT
BEGIN:VEVENT
DTSTART;TZID=Europe/London:20221104T120000
DTEND;TZID=Europe/London:20221104T130000
DTSTAMP:20260425T144026
CREATED:20221102T093950Z
LAST-MODIFIED:20221102T094047Z
UID:10294-1667563200-1667566800@www.dartfordandwhiteoaktri.co.uk
SUMMARY:Pool Swim Fairfield
DESCRIPTION:Pool Swim Fairfield\nWelcome back to Friday lunchtime coached pool swimming at Fairfield!  Swim sessions for the time being will be from 12:00 to 13:00. \nWe’ve now got 4 lanes available for the full one hour. \nLimiting to 6 people per lane.
URL:https://www.dartfordandwhiteoaktri.co.uk/event/pool-swim-fairfield-04-11-22/
LOCATION:Fairfield\, Lowfield St\, Dartford\, DA1 1JB\, United Kingdom
CATEGORIES:Swim
ATTACH;FMTTYPE=image/jpeg:https://www.dartfordandwhiteoaktri.co.uk/wp-content/uploads/2017/11/race-pool.jpg
END:VEVENT
BEGIN:VEVENT
DTSTART;TZID=Europe/London:20221106T190000
DTEND;TZID=Europe/London:20221106T200000
DTSTAMP:20260425T144026
CREATED:20221102T094152Z
LAST-MODIFIED:20221102T094257Z
UID:10297-1667761200-1667764800@www.dartfordandwhiteoaktri.co.uk
SUMMARY:Pool Swim White Oak
DESCRIPTION:Pool Swim White Oak\nSunday swim in 25m pool \nSwim sessions will be 3 lanes on Sunday evenings 7:00 pm to 8:00 pm. \nWe’re still limiting each lane to 6 swimmers.
URL:https://www.dartfordandwhiteoaktri.co.uk/event/pool-swim-white-oak-06-11-22/
LOCATION:White Oak Leisure Centre\, Hilda May Avenue\, Swanley\, BR8 7BT\, United Kingdom
CATEGORIES:Swim
ATTACH;FMTTYPE=image/jpeg:https://www.dartfordandwhiteoaktri.co.uk/wp-content/uploads/2020/08/newWhiteOakPool.jpg
END:VEVENT
BEGIN:VEVENT
DTSTART;TZID=Europe/London:20221109T210000
DTEND;TZID=Europe/London:20221109T220000
DTSTAMP:20260425T144026
CREATED:20221102T095303Z
LAST-MODIFIED:20221102T095400Z
UID:10300-1668027600-1668031200@www.dartfordandwhiteoaktri.co.uk
SUMMARY:Pool Swim White Oak
DESCRIPTION:Pool Swim New White Oak\nWednesday swim in 25m pool \nSwim sessions for the time being will be 6 lanes on Wednesday evenings 9:00 pm to 10:00 pm. \nWe are limiting each lane to 6 swimmers.
URL:https://www.dartfordandwhiteoaktri.co.uk/event/pool-swim-white-oak-09-11-22/
LOCATION:White Oak Leisure Centre\, Hilda May Avenue\, Swanley\, BR8 7BT\, United Kingdom
CATEGORIES:Swim
ATTACH;FMTTYPE=image/jpeg:https://www.dartfordandwhiteoaktri.co.uk/wp-content/uploads/2020/08/newWhiteOakPool.jpg
END:VEVENT
BEGIN:VEVENT
DTSTART;TZID=Europe/London:20221111T120000
DTEND;TZID=Europe/London:20221111T130000
DTSTAMP:20260425T144026
CREATED:20221102T095623Z
LAST-MODIFIED:20221102T095708Z
UID:10303-1668168000-1668171600@www.dartfordandwhiteoaktri.co.uk
SUMMARY:Pool Swim Fairfield
DESCRIPTION:Pool Swim Fairfield\nWelcome back to Friday lunchtime coached pool swimming at Fairfield!  Swim sessions for the time being will be from 12:00 to 13:00. \nWe’ve now got 4 lanes available for the full one hour. \nLimiting to 6 people per lane.
URL:https://www.dartfordandwhiteoaktri.co.uk/event/pool-swim-fairfield-11-11-22/
LOCATION:Fairfield\, Lowfield St\, Dartford\, DA1 1JB\, United Kingdom
CATEGORIES:Swim
ATTACH;FMTTYPE=image/jpeg:https://www.dartfordandwhiteoaktri.co.uk/wp-content/uploads/2017/11/race-pool.jpg
END:VEVENT
BEGIN:VEVENT
DTSTART;TZID=Europe/London:20221113T190000
DTEND;TZID=Europe/London:20221113T200000
DTSTAMP:20260425T144026
CREATED:20221102T102320Z
LAST-MODIFIED:20221102T102412Z
UID:10306-1668366000-1668369600@www.dartfordandwhiteoaktri.co.uk
SUMMARY:Pool Swim White Oak
DESCRIPTION:Pool Swim White Oak\nSunday swim in 25m pool \nSwim sessions will be 3 lanes on Sunday evenings 7:00 pm to 8:00 pm. \nWe’re still limiting each lane to 6 swimmers.
URL:https://www.dartfordandwhiteoaktri.co.uk/event/pool-swim-white-oak-13-11-22/
LOCATION:White Oak Leisure Centre\, Hilda May Avenue\, Swanley\, BR8 7BT\, United Kingdom
CATEGORIES:Swim
ATTACH;FMTTYPE=image/jpeg:https://www.dartfordandwhiteoaktri.co.uk/wp-content/uploads/2020/08/newWhiteOakPool.jpg
END:VEVENT
BEGIN:VEVENT
DTSTART;TZID=Europe/London:20221116T210000
DTEND;TZID=Europe/London:20221116T220000
DTSTAMP:20260425T144026
CREATED:20221102T103744Z
LAST-MODIFIED:20221102T103830Z
UID:10309-1668632400-1668636000@www.dartfordandwhiteoaktri.co.uk
SUMMARY:Pool Swim White Oak
DESCRIPTION:Pool Swim New White Oak\nWednesday swim in 25m pool \nSwim sessions for the time being will be 6 lanes on Wednesday evenings 9:00 pm to 10:00 pm. \nWe are limiting each lane to 6 swimmers.
URL:https://www.dartfordandwhiteoaktri.co.uk/event/pool-swim-white-oak-16-11-22/
LOCATION:White Oak Leisure Centre\, Hilda May Avenue\, Swanley\, BR8 7BT\, United Kingdom
CATEGORIES:Swim
ATTACH;FMTTYPE=image/jpeg:https://www.dartfordandwhiteoaktri.co.uk/wp-content/uploads/2020/08/newWhiteOakPool.jpg
END:VEVENT
BEGIN:VEVENT
DTSTART;TZID=Europe/London:20221118T120000
DTEND;TZID=Europe/London:20221118T130000
DTSTAMP:20260425T144026
CREATED:20221102T103858Z
LAST-MODIFIED:20221102T103944Z
UID:10312-1668772800-1668776400@www.dartfordandwhiteoaktri.co.uk
SUMMARY:Pool Swim Fairfield
DESCRIPTION:Pool Swim Fairfield\nWelcome back to Friday lunchtime coached pool swimming at Fairfield!  Swim sessions for the time being will be from 12:00 to 13:00. \nWe’ve now got 4 lanes available for the full one hour. \nLimiting to 6 people per lane.
URL:https://www.dartfordandwhiteoaktri.co.uk/event/pool-swim-fairfield-18-11-22/
LOCATION:Fairfield\, Lowfield St\, Dartford\, DA1 1JB\, United Kingdom
CATEGORIES:Swim
ATTACH;FMTTYPE=image/jpeg:https://www.dartfordandwhiteoaktri.co.uk/wp-content/uploads/2017/11/race-pool.jpg
END:VEVENT
BEGIN:VEVENT
DTSTART;TZID=Europe/London:20221120T190000
DTEND;TZID=Europe/London:20221120T200000
DTSTAMP:20260425T144026
CREATED:20221102T113353Z
LAST-MODIFIED:20221102T113442Z
UID:10318-1668970800-1668974400@www.dartfordandwhiteoaktri.co.uk
SUMMARY:Pool Swim White Oak
DESCRIPTION:Pool Swim White Oak\nSunday swim in 25m pool \nSwim sessions will be 3 lanes on Sunday evenings 7:00 pm to 8:00 pm. \nWe’re still limiting each lane to 6 swimmers.
URL:https://www.dartfordandwhiteoaktri.co.uk/event/pool-swim-white-oak-20-11-22/
LOCATION:White Oak Leisure Centre\, Hilda May Avenue\, Swanley\, BR8 7BT\, United Kingdom
CATEGORIES:Swim
ATTACH;FMTTYPE=image/jpeg:https://www.dartfordandwhiteoaktri.co.uk/wp-content/uploads/2020/08/newWhiteOakPool.jpg
END:VEVENT
BEGIN:VEVENT
DTSTART;TZID=Europe/London:20221123T210000
DTEND;TZID=Europe/London:20221123T220000
DTSTAMP:20260425T144026
CREATED:20221102T113230Z
LAST-MODIFIED:20221102T113316Z
UID:10315-1669237200-1669240800@www.dartfordandwhiteoaktri.co.uk
SUMMARY:Pool Swim White Oak
DESCRIPTION:Pool Swim New White Oak\nWednesday swim in 25m pool \nSwim sessions for the time being will be 6 lanes on Wednesday evenings 9:00 pm to 10:00 pm. \nWe are limiting each lane to 6 swimmers.
URL:https://www.dartfordandwhiteoaktri.co.uk/event/pool-swim-white-oak-23-11-22/
LOCATION:White Oak Leisure Centre\, Hilda May Avenue\, Swanley\, BR8 7BT\, United Kingdom
CATEGORIES:Swim
ATTACH;FMTTYPE=image/jpeg:https://www.dartfordandwhiteoaktri.co.uk/wp-content/uploads/2020/08/newWhiteOakPool.jpg
END:VEVENT
BEGIN:VEVENT
DTSTART;TZID=Europe/London:20221125T120000
DTEND;TZID=Europe/London:20221125T130000
DTSTAMP:20260425T144026
CREATED:20221102T113517Z
LAST-MODIFIED:20221102T113603Z
UID:10321-1669377600-1669381200@www.dartfordandwhiteoaktri.co.uk
SUMMARY:Pool Swim Fairfield
DESCRIPTION:Pool Swim Fairfield\nWelcome back to Friday lunchtime coached pool swimming at Fairfield!  Swim sessions for the time being will be from 12:00 to 13:00. \nWe’ve now got 4 lanes available for the full one hour. \nLimiting to 6 people per lane.
URL:https://www.dartfordandwhiteoaktri.co.uk/event/pool-swim-fairfield-25-11-22/
LOCATION:Fairfield\, Lowfield St\, Dartford\, DA1 1JB\, United Kingdom
CATEGORIES:Swim
ATTACH;FMTTYPE=image/jpeg:https://www.dartfordandwhiteoaktri.co.uk/wp-content/uploads/2017/11/race-pool.jpg
END:VEVENT
BEGIN:VEVENT
DTSTART;TZID=Europe/London:20221127T190000
DTEND;TZID=Europe/London:20221127T200000
DTSTAMP:20260425T144026
CREATED:20221102T113631Z
LAST-MODIFIED:20221102T113716Z
UID:10324-1669575600-1669579200@www.dartfordandwhiteoaktri.co.uk
SUMMARY:Pool Swim White Oak
DESCRIPTION:Pool Swim White Oak\nSunday swim in 25m pool \nSwim sessions will be 3 lanes on Sunday evenings 7:00 pm to 8:00 pm. \nWe’re still limiting each lane to 6 swimmers.
URL:https://www.dartfordandwhiteoaktri.co.uk/event/pool-swim-white-oak-27-11-22/
LOCATION:White Oak Leisure Centre\, Hilda May Avenue\, Swanley\, BR8 7BT\, United Kingdom
CATEGORIES:Swim
ATTACH;FMTTYPE=image/jpeg:https://www.dartfordandwhiteoaktri.co.uk/wp-content/uploads/2020/08/newWhiteOakPool.jpg
END:VEVENT
BEGIN:VEVENT
DTSTART;TZID=Europe/London:20221130T210000
DTEND;TZID=Europe/London:20221130T220000
DTSTAMP:20260425T144026
CREATED:20221102T113743Z
LAST-MODIFIED:20221102T113837Z
UID:10327-1669842000-1669845600@www.dartfordandwhiteoaktri.co.uk
SUMMARY:Pool Swim White Oak
DESCRIPTION:Pool Swim New White Oak\nWednesday swim in 25m pool \nSwim sessions for the time being will be 6 lanes on Wednesday evenings 9:00 pm to 10:00 pm. \nWe are limiting each lane to 6 swimmers.
URL:https://www.dartfordandwhiteoaktri.co.uk/event/pool-swim-white-oak-30-11-22/
LOCATION:White Oak Leisure Centre\, Hilda May Avenue\, Swanley\, BR8 7BT\, United Kingdom
CATEGORIES:Swim
ATTACH;FMTTYPE=image/jpeg:https://www.dartfordandwhiteoaktri.co.uk/wp-content/uploads/2020/08/newWhiteOakPool.jpg
END:VEVENT
END:VCALENDAR