BEGIN:VCALENDAR
VERSION:2.0
PRODID:-//Dartford and White Oak Triathlon club - ECPv6.0.10//NONSGML v1.0//EN
CALSCALE:GREGORIAN
METHOD:PUBLISH
X-WR-CALNAME:Dartford and White Oak Triathlon club
X-ORIGINAL-URL:https://www.dartfordandwhiteoaktri.co.uk
X-WR-CALDESC:Events for Dartford and White Oak Triathlon club
REFRESH-INTERVAL;VALUE=DURATION:PT1H
X-Robots-Tag:noindex
X-PUBLISHED-TTL:PT1H
BEGIN:VTIMEZONE
TZID:Europe/London
BEGIN:DAYLIGHT
TZOFFSETFROM:+0000
TZOFFSETTO:+0100
TZNAME:BST
DTSTART:20230326T010000
END:DAYLIGHT
BEGIN:STANDARD
TZOFFSETFROM:+0100
TZOFFSETTO:+0000
TZNAME:GMT
DTSTART:20231029T010000
END:STANDARD
END:VTIMEZONE
BEGIN:VEVENT
DTSTART;TZID=Europe/London:20230714T180000
DTEND;TZID=Europe/London:20230714T200000
DTSTAMP:20260420T142355
CREATED:20230628T074111Z
LAST-MODIFIED:20230628T074130Z
UID:12694-1689357600-1689364800@www.dartfordandwhiteoaktri.co.uk
SUMMARY:Friday Open Water Lake Swimming
DESCRIPTION:Lake Swimming\nWe’re delighted to announce a return to lake swimming for 2022 with the lake being open Saturdays 9-12 am\, Mondays 6-8 pm and Fridays 6-8 pm. \nHere are the basics. These are in keeping with the procedures adopted by other lakes and venues. \n\nIf you have any Covid-19 symptoms\, please do not turn up to swim.\nNo parking will be permitted at the lake. Park at the Crosswater Bathroom warehouse and walk to the lake.\nCheck\, and if appropriate update your emergency contact information. This was provided on joining. This can be checked via www.webcollect.org.uk\nSwims to be booked via the events calendar on the club website www.dartfordandwhiteoaktri.co.uk\n\n  \n  \n 
URL:https://www.dartfordandwhiteoaktri.co.uk/event/open-water-lake-swimming-17-copy-copy/
LOCATION:Club Lake\, Meldon View\, Dartford\, DA1 5SX
CATEGORIES:Swim
ATTACH;FMTTYPE=image/jpeg:https://www.dartfordandwhiteoaktri.co.uk/wp-content/uploads/2017/11/lake1-2.jpg
END:VEVENT
BEGIN:VEVENT
DTSTART;TZID=Europe/London:20230714T120000
DTEND;TZID=Europe/London:20230714T130000
DTSTAMP:20260420T142355
CREATED:20230628T074035Z
LAST-MODIFIED:20230628T074055Z
UID:12692-1689336000-1689339600@www.dartfordandwhiteoaktri.co.uk
SUMMARY:Fairfield Swim
DESCRIPTION:25m coached pool session at Fairfield Leisure 12 – 1pm
URL:https://www.dartfordandwhiteoaktri.co.uk/event/fairfield-swim-8-copy-copy/
LOCATION:Fairfield\, Lowfield St\, Dartford\, DA1 1JB\, United Kingdom
CATEGORIES:Swim
END:VEVENT
BEGIN:VEVENT
DTSTART;TZID=Europe/London:20230712T210000
DTEND;TZID=Europe/London:20230712T220000
DTSTAMP:20260420T142355
CREATED:20230628T073859Z
LAST-MODIFIED:20230628T073926Z
UID:12688-1689195600-1689199200@www.dartfordandwhiteoaktri.co.uk
SUMMARY:Whiteoaks Wednesday Swim
DESCRIPTION:1 hour coached session at Whiteoaks 25m pool\, 6 lanes
URL:https://www.dartfordandwhiteoaktri.co.uk/event/whiteoaks-wednesday-swim-6-copy-copy/
LOCATION:White Oak Leisure Centre\, Hilda May Avenue\, Swanley\, BR8 7BT\, United Kingdom
CATEGORIES:Swim
END:VEVENT
BEGIN:VEVENT
DTSTART;TZID=Europe/London:20230710T180000
DTEND;TZID=Europe/London:20230710T200000
DTSTAMP:20260420T142355
CREATED:20230628T073618Z
LAST-MODIFIED:20230628T073639Z
UID:12685-1689012000-1689019200@www.dartfordandwhiteoaktri.co.uk
SUMMARY:Monday Open Water Lake Swimming
DESCRIPTION:Lake Swimming\nWe’re delighted to announce a return to lake swimming for 2022 with the lake being open Saturdays 9-12 am\, Mondays 6-8 pm and Fridays 6-8 pm. \nHere are the basics. These are in keeping with the procedures adopted by other lakes and venues. \n\nIf you have any Covid-19 symptoms\, please do not turn up to swim.\nNo parking will be permitted at the lake. Park at the Crosswater Bathroom warehouse and walk to the lake.\nCheck\, and if appropriate update your emergency contact information. This was provided on joining. This can be checked via www.webcollect.org.uk\nSwims to be booked via the events calendar on the club website www.dartfordandwhiteoaktri.co.uk\n\n  \n  \n 
URL:https://www.dartfordandwhiteoaktri.co.uk/event/open-water-lake-swimming-22-copy-copy/
LOCATION:Club Lake\, Meldon View\, Dartford\, DA1 5SX
CATEGORIES:Swim
ATTACH;FMTTYPE=image/jpeg:https://www.dartfordandwhiteoaktri.co.uk/wp-content/uploads/2017/11/lake1-2.jpg
END:VEVENT
BEGIN:VEVENT
DTSTART;TZID=Europe/London:20230708T090000
DTEND;TZID=Europe/London:20230708T120000
DTSTAMP:20260420T142355
CREATED:20230628T073228Z
LAST-MODIFIED:20230628T073319Z
UID:12678-1688806800-1688817600@www.dartfordandwhiteoaktri.co.uk
SUMMARY:Saturday Open Water Lake Swimming
DESCRIPTION:Lake Swimming\nWe’re delighted to announce a return to lake swimming for 2022 with the lake being open Saturdays 9-12 am\, Mondays 6-8 pm and Fridays 6-8 pm. \nHere are the basics. These are in keeping with the procedures adopted by other lakes and venues. \n\nIf you have any Covid-19 symptoms\, please do not turn up to swim.\nNo parking will be permitted at the lake. Park at the Crosswater Bathroom warehouse and walk to the lake.\nCheck\, and if appropriate update your emergency contact information. This was provided on joining. This can be checked via www.webcollect.org.uk\nSwims to be booked via the events calendar on the club website www.dartfordandwhiteoaktri.co.uk\n\n  \n  \n 
URL:https://www.dartfordandwhiteoaktri.co.uk/event/open-water-lake-swimming-19-copy-copy-copy/
LOCATION:Club Lake\, Meldon View\, Dartford\, DA1 5SX
CATEGORIES:Swim
ATTACH;FMTTYPE=image/jpeg:https://www.dartfordandwhiteoaktri.co.uk/wp-content/uploads/2017/11/lake1-2.jpg
END:VEVENT
BEGIN:VEVENT
DTSTART;TZID=Europe/London:20230707T180000
DTEND;TZID=Europe/London:20230707T200000
DTSTAMP:20260420T142355
CREATED:20230628T073051Z
LAST-MODIFIED:20230628T073135Z
UID:12676-1688752800-1688760000@www.dartfordandwhiteoaktri.co.uk
SUMMARY:Friday Open Water Lake Swimming
DESCRIPTION:Lake Swimming\nWe’re delighted to announce a return to lake swimming for 2022 with the lake being open Saturdays 9-12 am\, Mondays 6-8 pm and Fridays 6-8 pm. \nHere are the basics. These are in keeping with the procedures adopted by other lakes and venues. \n\nIf you have any Covid-19 symptoms\, please do not turn up to swim.\nNo parking will be permitted at the lake. Park at the Crosswater Bathroom warehouse and walk to the lake.\nCheck\, and if appropriate update your emergency contact information. This was provided on joining. This can be checked via www.webcollect.org.uk\nSwims to be booked via the events calendar on the club website www.dartfordandwhiteoaktri.co.uk\n\n  \n  \n 
URL:https://www.dartfordandwhiteoaktri.co.uk/event/open-water-lake-swimming-17-copy/
LOCATION:Club Lake\, Meldon View\, Dartford\, DA1 5SX
CATEGORIES:Swim
ATTACH;FMTTYPE=image/jpeg:https://www.dartfordandwhiteoaktri.co.uk/wp-content/uploads/2017/11/lake1-2.jpg
END:VEVENT
BEGIN:VEVENT
DTSTART;TZID=Europe/London:20230707T120000
DTEND;TZID=Europe/London:20230707T130000
DTSTAMP:20260420T142355
CREATED:20230628T072953Z
LAST-MODIFIED:20230628T073027Z
UID:12674-1688731200-1688734800@www.dartfordandwhiteoaktri.co.uk
SUMMARY:Fairfield Swim
DESCRIPTION:25m coached pool session at Fairfield Leisure 12 – 1pm
URL:https://www.dartfordandwhiteoaktri.co.uk/event/fairfield-swim-8-copy/
LOCATION:Fairfield\, Lowfield St\, Dartford\, DA1 1JB\, United Kingdom
CATEGORIES:Swim
END:VEVENT
BEGIN:VEVENT
DTSTART;TZID=Europe/London:20230705T210000
DTEND;TZID=Europe/London:20230705T220000
DTSTAMP:20260420T142355
CREATED:20230628T072759Z
LAST-MODIFIED:20230628T072835Z
UID:12670-1688590800-1688594400@www.dartfordandwhiteoaktri.co.uk
SUMMARY:Whiteoaks Wednesday Swim
DESCRIPTION:1 hour coached session at Whiteoaks 25m pool\, 6 lanes
URL:https://www.dartfordandwhiteoaktri.co.uk/event/whiteoaks-wednesday-swim-6-copy/
LOCATION:White Oak Leisure Centre\, Hilda May Avenue\, Swanley\, BR8 7BT\, United Kingdom
CATEGORIES:Swim
END:VEVENT
BEGIN:VEVENT
DTSTART;TZID=Europe/London:20230703T180000
DTEND;TZID=Europe/London:20230703T200000
DTSTAMP:20260420T142355
CREATED:20230628T073513Z
LAST-MODIFIED:20230628T160958Z
UID:12683-1688407200-1688414400@www.dartfordandwhiteoaktri.co.uk
SUMMARY:Monday Open Water Lake Swimming
DESCRIPTION:Lake Swimming\nWe’re delighted to announce a return to lake swimming for 2022 with the lake being open Saturdays 9-12 am\, Mondays 6-8 pm and Fridays 6-8 pm. \nHere are the basics. These are in keeping with the procedures adopted by other lakes and venues. \n\nIf you have any Covid-19 symptoms\, please do not turn up to swim.\nNo parking will be permitted at the lake. Park at the Crosswater Bathroom warehouse and walk to the lake.\nCheck\, and if appropriate update your emergency contact information. This was provided on joining. This can be checked via www.webcollect.org.uk\nSwims to be booked via the events calendar on the club website www.dartfordandwhiteoaktri.co.uk\n\n  \n  \n 
URL:https://www.dartfordandwhiteoaktri.co.uk/event/open-water-lake-swimming-22-copy/
LOCATION:Club Lake\, Meldon View\, Dartford\, DA1 5SX
CATEGORIES:Swim
ATTACH;FMTTYPE=image/jpeg:https://www.dartfordandwhiteoaktri.co.uk/wp-content/uploads/2017/11/lake1-2.jpg
END:VEVENT
BEGIN:VEVENT
DTSTART;TZID=Europe/London:20230701T090000
DTEND;TZID=Europe/London:20230701T120000
DTSTAMP:20260420T142355
CREATED:20230628T072429Z
LAST-MODIFIED:20230628T072531Z
UID:12666-1688202000-1688212800@www.dartfordandwhiteoaktri.co.uk
SUMMARY:Saturday Open Water Lake Swimming
DESCRIPTION:Lake Swimming\nWe’re delighted to announce a return to lake swimming for 2022 with the lake being open Saturdays 9-12 am\, Mondays 6-8 pm and Fridays 6-8 pm. \nHere are the basics. These are in keeping with the procedures adopted by other lakes and venues. \n\nIf you have any Covid-19 symptoms\, please do not turn up to swim.\nNo parking will be permitted at the lake. Park at the Crosswater Bathroom warehouse and walk to the lake.\nCheck\, and if appropriate update your emergency contact information. This was provided on joining. This can be checked via www.webcollect.org.uk\nSwims to be booked via the events calendar on the club website www.dartfordandwhiteoaktri.co.uk\n\n  \n  \n 
URL:https://www.dartfordandwhiteoaktri.co.uk/event/open-water-lake-swimming-19-copy-copy/
LOCATION:Club Lake\, Meldon View\, Dartford\, DA1 5SX
CATEGORIES:Swim
ATTACH;FMTTYPE=image/jpeg:https://www.dartfordandwhiteoaktri.co.uk/wp-content/uploads/2017/11/lake1-2.jpg
END:VEVENT
BEGIN:VEVENT
DTSTART;TZID=Europe/London:20230630T180000
DTEND;TZID=Europe/London:20230630T200000
DTSTAMP:20260420T142355
CREATED:20230602T074232Z
LAST-MODIFIED:20230602T074338Z
UID:12411-1688148000-1688155200@www.dartfordandwhiteoaktri.co.uk
SUMMARY:Friday Open Water Lake Swimming
DESCRIPTION:Lake Swimming\nWe’re delighted to announce a return to lake swimming for 2022 with the lake being open Saturdays 9-12 am\, Mondays 6-8 pm and Fridays 6-8 pm. \nHere are the basics. These are in keeping with the procedures adopted by other lakes and venues. \n\nIf you have any Covid-19 symptoms\, please do not turn up to swim.\nNo parking will be permitted at the lake. Park at the Crosswater Bathroom warehouse and walk to the lake.\nCheck\, and if appropriate update your emergency contact information. This was provided on joining. This can be checked via www.webcollect.org.uk\nSwims to be booked via the events calendar on the club website www.dartfordandwhiteoaktri.co.uk\n\n  \n  \n 
URL:https://www.dartfordandwhiteoaktri.co.uk/event/open-water-lake-swimming-17/
LOCATION:Club Lake\, Meldon View\, Dartford\, DA1 5SX
CATEGORIES:Swim
ATTACH;FMTTYPE=image/jpeg:https://www.dartfordandwhiteoaktri.co.uk/wp-content/uploads/2017/11/lake1-2.jpg
END:VEVENT
BEGIN:VEVENT
DTSTART;TZID=Europe/London:20230630T120000
DTEND;TZID=Europe/London:20230630T130000
DTSTAMP:20260420T142355
CREATED:20230602T072959Z
LAST-MODIFIED:20230602T073108Z
UID:12390-1688126400-1688130000@www.dartfordandwhiteoaktri.co.uk
SUMMARY:Fairfield Swim
DESCRIPTION:25m coached pool session at Fairfield Leisure 12 – 1pm
URL:https://www.dartfordandwhiteoaktri.co.uk/event/fairfield-swim-8/
LOCATION:Fairfield\, Lowfield St\, Dartford\, DA1 1JB\, United Kingdom
CATEGORIES:Swim
END:VEVENT
BEGIN:VEVENT
DTSTART;TZID=Europe/London:20230628T210000
DTEND;TZID=Europe/London:20230628T220000
DTSTAMP:20260420T142355
CREATED:20230602T083859Z
LAST-MODIFIED:20230602T084208Z
UID:12485-1687986000-1687989600@www.dartfordandwhiteoaktri.co.uk
SUMMARY:Whiteoaks Wednesday Swim
DESCRIPTION:1 hour coached session at Whiteoaks 25m pool\, 6 lanes
URL:https://www.dartfordandwhiteoaktri.co.uk/event/whiteoaks-wednesday-swim-7/
LOCATION:White Oak Leisure Centre\, Hilda May Avenue\, Swanley\, BR8 7BT\, United Kingdom
CATEGORIES:Swim
END:VEVENT
BEGIN:VEVENT
DTSTART;TZID=Europe/London:20230626T180000
DTEND;TZID=Europe/London:20230626T200000
DTSTAMP:20260420T142355
CREATED:20230602T083039Z
LAST-MODIFIED:20230602T083142Z
UID:12472-1687802400-1687809600@www.dartfordandwhiteoaktri.co.uk
SUMMARY:Monday Open Water Lake Swimming=
DESCRIPTION:Lake Swimming\nWe’re delighted to announce a return to lake swimming for 2022 with the lake being open Saturdays 9-12 am\, Mondays 6-8 pm and Fridays 6-8 pm. \nHere are the basics. These are in keeping with the procedures adopted by other lakes and venues. \n\nIf you have any Covid-19 symptoms\, please do not turn up to swim.\nNo parking will be permitted at the lake. Park at the Crosswater Bathroom warehouse and walk to the lake.\nCheck\, and if appropriate update your emergency contact information. This was provided on joining. This can be checked via www.webcollect.org.uk\nSwims to be booked via the events calendar on the club website www.dartfordandwhiteoaktri.co.uk\n\n  \n  \n 
URL:https://www.dartfordandwhiteoaktri.co.uk/event/open-water-lake-swimming-22/
LOCATION:Club Lake\, Meldon View\, Dartford\, DA1 5SX
CATEGORIES:Swim
ATTACH;FMTTYPE=image/jpeg:https://www.dartfordandwhiteoaktri.co.uk/wp-content/uploads/2017/11/lake1-2.jpg
END:VEVENT
BEGIN:VEVENT
DTSTART;TZID=Europe/London:20230624T090000
DTEND;TZID=Europe/London:20230624T120000
DTSTAMP:20260420T142355
CREATED:20230602T082130Z
LAST-MODIFIED:20230602T082254Z
UID:12457-1687597200-1687608000@www.dartfordandwhiteoaktri.co.uk
SUMMARY:Saturday Open Water Lake Swimming
DESCRIPTION:Lake Swimming\nWe’re delighted to announce a return to lake swimming for 2022 with the lake being open Saturdays 9-12 am\, Mondays 6-8 pm and Fridays 6-8 pm. \nHere are the basics. These are in keeping with the procedures adopted by other lakes and venues. \n\nIf you have any Covid-19 symptoms\, please do not turn up to swim.\nNo parking will be permitted at the lake. Park at the Crosswater Bathroom warehouse and walk to the lake.\nCheck\, and if appropriate update your emergency contact information. This was provided on joining. This can be checked via www.webcollect.org.uk\nSwims to be booked via the events calendar on the club website www.dartfordandwhiteoaktri.co.uk\n\n  \n  \n 
URL:https://www.dartfordandwhiteoaktri.co.uk/event/open-water-lake-swimming-19-copy/
LOCATION:Club Lake\, Meldon View\, Dartford\, DA1 5SX
CATEGORIES:Swim
ATTACH;FMTTYPE=image/jpeg:https://www.dartfordandwhiteoaktri.co.uk/wp-content/uploads/2017/11/lake1-2.jpg
END:VEVENT
BEGIN:VEVENT
DTSTART;TZID=Europe/London:20230623T180000
DTEND;TZID=Europe/London:20230623T200000
DTSTAMP:20260420T142355
CREATED:20230602T074115Z
LAST-MODIFIED:20230602T074219Z
UID:12408-1687543200-1687550400@www.dartfordandwhiteoaktri.co.uk
SUMMARY:Friday Open Water Lake Swimming
DESCRIPTION:Lake Swimming\nWe’re delighted to announce a return to lake swimming for 2022 with the lake being open Saturdays 9-12 am\, Mondays 6-8 pm and Fridays 6-8 pm. \nHere are the basics. These are in keeping with the procedures adopted by other lakes and venues. \n\nIf you have any Covid-19 symptoms\, please do not turn up to swim.\nNo parking will be permitted at the lake. Park at the Crosswater Bathroom warehouse and walk to the lake.\nCheck\, and if appropriate update your emergency contact information. This was provided on joining. This can be checked via www.webcollect.org.uk\nSwims to be booked via the events calendar on the club website www.dartfordandwhiteoaktri.co.uk\n\n  \n  \n 
URL:https://www.dartfordandwhiteoaktri.co.uk/event/open-water-lake-swimming-16/
LOCATION:Club Lake\, Meldon View\, Dartford\, DA1 5SX
CATEGORIES:Swim
ATTACH;FMTTYPE=image/jpeg:https://www.dartfordandwhiteoaktri.co.uk/wp-content/uploads/2017/11/lake1-2.jpg
END:VEVENT
BEGIN:VEVENT
DTSTART;TZID=Europe/London:20230623T120000
DTEND;TZID=Europe/London:20230623T130000
DTSTAMP:20260420T142355
CREATED:20230602T072740Z
LAST-MODIFIED:20230602T072933Z
UID:12386-1687521600-1687525200@www.dartfordandwhiteoaktri.co.uk
SUMMARY:Fairfield Swim
DESCRIPTION:25m coached pool session at Fairfield Leisure 12 – 1pm
URL:https://www.dartfordandwhiteoaktri.co.uk/event/fairfield-swim-7/
LOCATION:Fairfield\, Lowfield St\, Dartford\, DA1 1JB\, United Kingdom
CATEGORIES:Swim
END:VEVENT
BEGIN:VEVENT
DTSTART;TZID=Europe/London:20230621T210000
DTEND;TZID=Europe/London:20230621T220000
DTSTAMP:20260420T142355
CREATED:20230602T083711Z
LAST-MODIFIED:20230602T083812Z
UID:12482-1687381200-1687384800@www.dartfordandwhiteoaktri.co.uk
SUMMARY:Whiteoaks Wednesday Swim
DESCRIPTION:1 hour coached session at Whiteoaks 25m pool\, 6 lanes
URL:https://www.dartfordandwhiteoaktri.co.uk/event/whiteoaks-wednesday-swim-6/
LOCATION:White Oak Leisure Centre\, Hilda May Avenue\, Swanley\, BR8 7BT\, United Kingdom
CATEGORIES:Swim
END:VEVENT
BEGIN:VEVENT
DTSTART;TZID=Europe/London:20230619T180000
DTEND;TZID=Europe/London:20230619T200000
DTSTAMP:20260420T142355
CREATED:20230602T082919Z
LAST-MODIFIED:20230602T083022Z
UID:12469-1687197600-1687204800@www.dartfordandwhiteoaktri.co.uk
SUMMARY:Monday Open Water Lake Swimming
DESCRIPTION:Lake Swimming\nWe’re delighted to announce a return to lake swimming for 2022 with the lake being open Saturdays 9-12 am\, Mondays 6-8 pm and Fridays 6-8 pm. \nHere are the basics. These are in keeping with the procedures adopted by other lakes and venues. \n\nIf you have any Covid-19 symptoms\, please do not turn up to swim.\nNo parking will be permitted at the lake. Park at the Crosswater Bathroom warehouse and walk to the lake.\nCheck\, and if appropriate update your emergency contact information. This was provided on joining. This can be checked via www.webcollect.org.uk\nSwims to be booked via the events calendar on the club website www.dartfordandwhiteoaktri.co.uk\n\n  \n  \n 
URL:https://www.dartfordandwhiteoaktri.co.uk/event/open-water-lake-swimming-21/
LOCATION:Club Lake\, Meldon View\, Dartford\, DA1 5SX
CATEGORIES:Swim
ATTACH;FMTTYPE=image/jpeg:https://www.dartfordandwhiteoaktri.co.uk/wp-content/uploads/2017/11/lake1-2.jpg
END:VEVENT
BEGIN:VEVENT
DTSTART;TZID=Europe/London:20230617T090000
DTEND;TZID=Europe/London:20230617T120000
DTSTAMP:20260420T142355
CREATED:20230602T081837Z
LAST-MODIFIED:20230602T082110Z
UID:12452-1686992400-1687003200@www.dartfordandwhiteoaktri.co.uk
SUMMARY:Saturday Open Water Lake Swimming
DESCRIPTION:Lake Swimming\nWe’re delighted to announce a return to lake swimming for 2022 with the lake being open Saturdays 9-12 am\, Mondays 6-8 pm and Fridays 6-8 pm. \nHere are the basics. These are in keeping with the procedures adopted by other lakes and venues. \n\nIf you have any Covid-19 symptoms\, please do not turn up to swim.\nNo parking will be permitted at the lake. Park at the Crosswater Bathroom warehouse and walk to the lake.\nCheck\, and if appropriate update your emergency contact information. This was provided on joining. This can be checked via www.webcollect.org.uk\nSwims to be booked via the events calendar on the club website www.dartfordandwhiteoaktri.co.uk\n\n  \n  \n 
URL:https://www.dartfordandwhiteoaktri.co.uk/event/open-water-lake-swimming-19/
LOCATION:Club Lake\, Meldon View\, Dartford\, DA1 5SX
CATEGORIES:Swim
ATTACH;FMTTYPE=image/jpeg:https://www.dartfordandwhiteoaktri.co.uk/wp-content/uploads/2017/11/lake1-2.jpg
END:VEVENT
BEGIN:VEVENT
DTSTART;TZID=Europe/London:20230616T180000
DTEND;TZID=Europe/London:20230616T200000
DTSTAMP:20260420T142355
CREATED:20230602T073942Z
LAST-MODIFIED:20230602T074058Z
UID:12404-1686938400-1686945600@www.dartfordandwhiteoaktri.co.uk
SUMMARY:Friday Open Water Lake Swimming
DESCRIPTION:Lake Swimming\nWe’re delighted to announce a return to lake swimming for 2022 with the lake being open Saturdays 9-12 am\, Mondays 6-8 pm and Fridays 6-8 pm. \nHere are the basics. These are in keeping with the procedures adopted by other lakes and venues. \n\nIf you have any Covid-19 symptoms\, please do not turn up to swim.\nNo parking will be permitted at the lake. Park at the Crosswater Bathroom warehouse and walk to the lake.\nCheck\, and if appropriate update your emergency contact information. This was provided on joining. This can be checked via www.webcollect.org.uk\nSwims to be booked via the events calendar on the club website www.dartfordandwhiteoaktri.co.uk\n\n  \n  \n 
URL:https://www.dartfordandwhiteoaktri.co.uk/event/open-water-lake-swimming-15-copy-copy/
LOCATION:Club Lake\, Meldon View\, Dartford\, DA1 5SX
CATEGORIES:Swim
ATTACH;FMTTYPE=image/jpeg:https://www.dartfordandwhiteoaktri.co.uk/wp-content/uploads/2017/11/lake1-2.jpg
END:VEVENT
BEGIN:VEVENT
DTSTART;TZID=Europe/London:20230616T120000
DTEND;TZID=Europe/London:20230616T130000
DTSTAMP:20260420T142355
CREATED:20230602T073504Z
LAST-MODIFIED:20230602T073639Z
UID:12397-1686916800-1686920400@www.dartfordandwhiteoaktri.co.uk
SUMMARY:Fairfield Swim
DESCRIPTION:25m coached pool session at Fairfield Leisure 12 – 1pm
URL:https://www.dartfordandwhiteoaktri.co.uk/event/fairfield-swim-6-copy/
LOCATION:Fairfield\, Lowfield St\, Dartford\, DA1 1JB\, United Kingdom
CATEGORIES:Swim
END:VEVENT
BEGIN:VEVENT
DTSTART;TZID=Europe/London:20230614T210000
DTEND;TZID=Europe/London:20230614T220000
DTSTAMP:20260420T142355
CREATED:20230602T083547Z
LAST-MODIFIED:20230602T083652Z
UID:12479-1686776400-1686780000@www.dartfordandwhiteoaktri.co.uk
SUMMARY:Whiteoaks Wednesday Swim
DESCRIPTION:1 hour coached session at Whiteoaks 25m pool\, 6 lanes
URL:https://www.dartfordandwhiteoaktri.co.uk/event/whiteoaks-wednesday-swim-5/
LOCATION:White Oak Leisure Centre\, Hilda May Avenue\, Swanley\, BR8 7BT\, United Kingdom
CATEGORIES:Swim
END:VEVENT
BEGIN:VEVENT
DTSTART;TZID=Europe/London:20230612T180000
DTEND;TZID=Europe/London:20230612T200000
DTSTAMP:20260420T142355
CREATED:20230602T082615Z
LAST-MODIFIED:20230602T082756Z
UID:12465-1686592800-1686600000@www.dartfordandwhiteoaktri.co.uk
SUMMARY:Monday Open Water Lake Swimming
DESCRIPTION:Lake Swimming\nWe’re delighted to announce a return to lake swimming for 2022 with the lake being open Saturdays 9-12 am\, Mondays 6-8 pm and Fridays 6-8 pm. \nHere are the basics. These are in keeping with the procedures adopted by other lakes and venues. \n\nIf you have any Covid-19 symptoms\, please do not turn up to swim.\nNo parking will be permitted at the lake. Park at the Crosswater Bathroom warehouse and walk to the lake.\nCheck\, and if appropriate update your emergency contact information. This was provided on joining. This can be checked via www.webcollect.org.uk\nSwims to be booked via the events calendar on the club website www.dartfordandwhiteoaktri.co.uk\n\n  \n  \n 
URL:https://www.dartfordandwhiteoaktri.co.uk/event/open-water-lake-swimming-20/
LOCATION:Club Lake\, Meldon View\, Dartford\, DA1 5SX
CATEGORIES:Swim
ATTACH;FMTTYPE=image/jpeg:https://www.dartfordandwhiteoaktri.co.uk/wp-content/uploads/2017/11/lake1-2.jpg
END:VEVENT
BEGIN:VEVENT
DTSTART;TZID=Europe/London:20230610T090000
DTEND;TZID=Europe/London:20230610T120000
DTSTAMP:20260420T142355
CREATED:20230602T081712Z
LAST-MODIFIED:20230602T081804Z
UID:12448-1686387600-1686398400@www.dartfordandwhiteoaktri.co.uk
SUMMARY:Saturday Open Water Lake Swimming
DESCRIPTION:Lake Swimming\nWe’re delighted to announce a return to lake swimming for 2022 with the lake being open Saturdays 9-12 am\, Mondays 6-8 pm and Fridays 6-8 pm. \nHere are the basics. These are in keeping with the procedures adopted by other lakes and venues. \n\nIf you have any Covid-19 symptoms\, please do not turn up to swim.\nNo parking will be permitted at the lake. Park at the Crosswater Bathroom warehouse and walk to the lake.\nCheck\, and if appropriate update your emergency contact information. This was provided on joining. This can be checked via www.webcollect.org.uk\nSwims to be booked via the events calendar on the club website www.dartfordandwhiteoaktri.co.uk\n\n  \n  \n 
URL:https://www.dartfordandwhiteoaktri.co.uk/event/open-water-lake-swimming-18-copy/
LOCATION:Club Lake\, Meldon View\, Dartford\, DA1 5SX
CATEGORIES:Swim
ATTACH;FMTTYPE=image/jpeg:https://www.dartfordandwhiteoaktri.co.uk/wp-content/uploads/2017/11/lake1-2.jpg
END:VEVENT
BEGIN:VEVENT
DTSTART;TZID=Europe/London:20230609T180000
DTEND;TZID=Europe/London:20230609T200000
DTSTAMP:20260420T142355
CREATED:20230602T073716Z
LAST-MODIFIED:20230602T073909Z
UID:12401-1686333600-1686340800@www.dartfordandwhiteoaktri.co.uk
SUMMARY:Friday Open Water Lake Swimming
DESCRIPTION:Lake Swimming\nWe’re delighted to announce a return to lake swimming for 2022 with the lake being open Saturdays 9-12 am\, Mondays 6-8 pm and Fridays 6-8 pm. \nHere are the basics. These are in keeping with the procedures adopted by other lakes and venues. \n\nIf you have any Covid-19 symptoms\, please do not turn up to swim.\nNo parking will be permitted at the lake. Park at the Crosswater Bathroom warehouse and walk to the lake.\nCheck\, and if appropriate update your emergency contact information. This was provided on joining. This can be checked via www.webcollect.org.uk\nSwims to be booked via the events calendar on the club website www.dartfordandwhiteoaktri.co.uk\n\n  \n  \n 
URL:https://www.dartfordandwhiteoaktri.co.uk/event/open-water-lake-swimming-15-copy/
LOCATION:Club Lake\, Meldon View\, Dartford\, DA1 5SX
CATEGORIES:Swim
ATTACH;FMTTYPE=image/jpeg:https://www.dartfordandwhiteoaktri.co.uk/wp-content/uploads/2017/11/lake1-2.jpg
END:VEVENT
BEGIN:VEVENT
DTSTART;TZID=Europe/London:20230609T120000
DTEND;TZID=Europe/London:20230609T130000
DTSTAMP:20260420T142355
CREATED:20230602T084529Z
LAST-MODIFIED:20230602T085322Z
UID:12499-1686312000-1686315600@www.dartfordandwhiteoaktri.co.uk
SUMMARY:Fairfield Swim
DESCRIPTION:25m coached pool session at Fairfield Leisure 12 – 1pm
URL:https://www.dartfordandwhiteoaktri.co.uk/event/fairfield-swim-4-copy/
LOCATION:Fairfield\, Lowfield St\, Dartford\, DA1 1JB\, United Kingdom
CATEGORIES:Swim
END:VEVENT
BEGIN:VEVENT
DTSTART;TZID=Europe/London:20230607T210000
DTEND;TZID=Europe/London:20230607T220000
DTSTAMP:20260420T142355
CREATED:20230602T083337Z
LAST-MODIFIED:20230602T083519Z
UID:12475-1686171600-1686175200@www.dartfordandwhiteoaktri.co.uk
SUMMARY:Whiteoaks Wednesday Swim
DESCRIPTION:1 hour coached session at Whiteoaks 25m pool\, 6 lanes
URL:https://www.dartfordandwhiteoaktri.co.uk/event/whiteoaks-wednesday-swim-4/
LOCATION:White Oak Leisure Centre\, Hilda May Avenue\, Swanley\, BR8 7BT\, United Kingdom
CATEGORIES:Swim
END:VEVENT
BEGIN:VEVENT
DTSTART;TZID=Europe/London:20230605T180000
DTEND;TZID=Europe/London:20230605T200000
DTSTAMP:20260420T142355
CREATED:20230602T082425Z
LAST-MODIFIED:20230602T082601Z
UID:12461-1685988000-1685995200@www.dartfordandwhiteoaktri.co.uk
SUMMARY:Monday Open Water Lake Swimming
DESCRIPTION:Lake Swimming\nWe’re delighted to announce a return to lake swimming for 2022 with the lake being open Saturdays 9-12 am\, Mondays 6-8 pm and Fridays 6-8 pm. \nHere are the basics. These are in keeping with the procedures adopted by other lakes and venues. \n\nIf you have any Covid-19 symptoms\, please do not turn up to swim.\nNo parking will be permitted at the lake. Park at the Crosswater Bathroom warehouse and walk to the lake.\nCheck\, and if appropriate update your emergency contact information. This was provided on joining. This can be checked via www.webcollect.org.uk\nSwims to be booked via the events calendar on the club website www.dartfordandwhiteoaktri.co.uk\n\n  \n  \n 
URL:https://www.dartfordandwhiteoaktri.co.uk/event/open-water-lake-swimming-30-05-22-5/
LOCATION:Club Lake\, Meldon View\, Dartford\, DA1 5SX
CATEGORIES:Swim
ATTACH;FMTTYPE=image/jpeg:https://www.dartfordandwhiteoaktri.co.uk/wp-content/uploads/2017/11/lake1-2.jpg
END:VEVENT
BEGIN:VEVENT
DTSTART;TZID=Europe/London:20230603T090000
DTEND;TZID=Europe/London:20230603T120000
DTSTAMP:20260420T142355
CREATED:20230602T081411Z
LAST-MODIFIED:20230602T081615Z
UID:12443-1685782800-1685793600@www.dartfordandwhiteoaktri.co.uk
SUMMARY:Saturday Open Water Lake Swimming
DESCRIPTION:Lake Swimming\nWe’re delighted to announce a return to lake swimming for 2022 with the lake being open Saturdays 9-12 am\, Mondays 6-8 pm and Fridays 6-8 pm. \nHere are the basics. These are in keeping with the procedures adopted by other lakes and venues. \n\nIf you have any Covid-19 symptoms\, please do not turn up to swim.\nNo parking will be permitted at the lake. Park at the Crosswater Bathroom warehouse and walk to the lake.\nCheck\, and if appropriate update your emergency contact information. This was provided on joining. This can be checked via www.webcollect.org.uk\nSwims to be booked via the events calendar on the club website www.dartfordandwhiteoaktri.co.uk\n\n  \n  \n 
URL:https://www.dartfordandwhiteoaktri.co.uk/event/open-water-lake-swimming-18/
LOCATION:Club Lake\, Meldon View\, Dartford\, DA1 5SX
CATEGORIES:Swim
ATTACH;FMTTYPE=image/jpeg:https://www.dartfordandwhiteoaktri.co.uk/wp-content/uploads/2017/11/lake1-2.jpg
END:VEVENT
END:VCALENDAR