BEGIN:VCALENDAR
VERSION:2.0
PRODID:-//Dartford and White Oak Triathlon club - ECPv6.0.10//NONSGML v1.0//EN
CALSCALE:GREGORIAN
METHOD:PUBLISH
X-ORIGINAL-URL:https://www.dartfordandwhiteoaktri.co.uk
X-WR-CALDESC:Events for Dartford and White Oak Triathlon club
REFRESH-INTERVAL;VALUE=DURATION:PT1H
X-Robots-Tag:noindex
X-PUBLISHED-TTL:PT1H
BEGIN:VTIMEZONE
TZID:Europe/London
BEGIN:DAYLIGHT
TZOFFSETFROM:+0000
TZOFFSETTO:+0100
TZNAME:BST
DTSTART:20220327T010000
END:DAYLIGHT
BEGIN:STANDARD
TZOFFSETFROM:+0100
TZOFFSETTO:+0000
TZNAME:GMT
DTSTART:20221030T010000
END:STANDARD
BEGIN:DAYLIGHT
TZOFFSETFROM:+0000
TZOFFSETTO:+0100
TZNAME:BST
DTSTART:20230326T010000
END:DAYLIGHT
BEGIN:STANDARD
TZOFFSETFROM:+0100
TZOFFSETTO:+0000
TZNAME:GMT
DTSTART:20231029T010000
END:STANDARD
END:VTIMEZONE
BEGIN:VEVENT
DTSTART;TZID=Europe/London:20230329T210000
DTEND;TZID=Europe/London:20230329T220000
DTSTAMP:20260423T115502
CREATED:20230225T143516Z
LAST-MODIFIED:20230225T143748Z
UID:11386-1680123600-1680127200@www.dartfordandwhiteoaktri.co.uk
SUMMARY:Whiteoaks Wednesday Swim
DESCRIPTION:1 hour coached session at Whiteoaks 25m pool\, 6 lanes
URL:https://www.dartfordandwhiteoaktri.co.uk/event/whiteoaks-wednesday/
LOCATION:White Oak Leisure Centre\, Hilda May Avenue\, Swanley\, BR8 7BT\, United Kingdom
CATEGORIES:Swim
END:VEVENT
BEGIN:VEVENT
DTSTART;TZID=Europe/London:20230324T120000
DTEND;TZID=Europe/London:20230324T130000
DTSTAMP:20260423T115502
CREATED:20230225T085919Z
LAST-MODIFIED:20230225T090030Z
UID:11365-1679659200-1679662800@www.dartfordandwhiteoaktri.co.uk
SUMMARY:Fairfield Swim
DESCRIPTION:25m coached pool session at Fairfield Leisure 12 – 1pm
URL:https://www.dartfordandwhiteoaktri.co.uk/event/fairfield-swim-2-copy-copy-copy-copy/
LOCATION:Fairfield\, Lowfield St\, Dartford\, DA1 1JB\, United Kingdom
CATEGORIES:Swim
END:VEVENT
BEGIN:VEVENT
DTSTART;TZID=Europe/London:20230322T210000
DTEND;TZID=Europe/London:20230322T220000
DTSTAMP:20260423T115502
CREATED:20230225T143324Z
LAST-MODIFIED:20230225T143454Z
UID:11382-1679518800-1679522400@www.dartfordandwhiteoaktri.co.uk
SUMMARY:Whiteoaks Wednesday Swim
DESCRIPTION:1 hour coached session at Whiteoaks 25m pool\, 6 lanes
URL:https://www.dartfordandwhiteoaktri.co.uk/event/whiteoaks-wednesday-swim-2-copy/
LOCATION:White Oak Leisure Centre\, Hilda May Avenue\, Swanley\, BR8 7BT\, United Kingdom
CATEGORIES:Swim
END:VEVENT
BEGIN:VEVENT
DTSTART;TZID=Europe/London:20230317T120000
DTEND;TZID=Europe/London:20230317T130000
DTSTAMP:20260423T115502
CREATED:20230225T085739Z
LAST-MODIFIED:20230225T085859Z
UID:11361-1679054400-1679058000@www.dartfordandwhiteoaktri.co.uk
SUMMARY:Fairfield Swim
DESCRIPTION:25m coached pool session at Fairfield Leisure 12 – 1pm
URL:https://www.dartfordandwhiteoaktri.co.uk/event/fairfield-swim-2-copy-copy-copy/
LOCATION:Fairfield\, Lowfield St\, Dartford\, DA1 1JB\, United Kingdom
CATEGORIES:Swim
END:VEVENT
BEGIN:VEVENT
DTSTART;TZID=Europe/London:20230315T210000
DTEND;TZID=Europe/London:20230315T220000
DTSTAMP:20260423T115502
CREATED:20230225T143133Z
LAST-MODIFIED:20230225T143307Z
UID:11378-1678914000-1678917600@www.dartfordandwhiteoaktri.co.uk
SUMMARY:Whiteoaks Wednesday Swim
DESCRIPTION:1 hour coached session at Whiteoaks 25m pool\, 6 lanes
URL:https://www.dartfordandwhiteoaktri.co.uk/event/whiteoaks-wednesday-swim-2/
LOCATION:White Oak Leisure Centre\, Hilda May Avenue\, Swanley\, BR8 7BT\, United Kingdom
CATEGORIES:Swim
END:VEVENT
BEGIN:VEVENT
DTSTART;TZID=Europe/London:20230310T120000
DTEND;TZID=Europe/London:20230310T130000
DTSTAMP:20260423T115502
CREATED:20230225T085612Z
LAST-MODIFIED:20230225T085719Z
UID:11358-1678449600-1678453200@www.dartfordandwhiteoaktri.co.uk
SUMMARY:Fairfield Swim
DESCRIPTION:25m coached pool session at Fairfield Leisure 12 – 1pm
URL:https://www.dartfordandwhiteoaktri.co.uk/event/fairfield-swim-2-copy-copy/
LOCATION:Fairfield\, Lowfield St\, Dartford\, DA1 1JB\, United Kingdom
CATEGORIES:Swim
END:VEVENT
BEGIN:VEVENT
DTSTART;TZID=Europe/London:20230308T210000
DTEND;TZID=Europe/London:20230308T220000
DTSTAMP:20260423T115502
CREATED:20230225T143009Z
LAST-MODIFIED:20230225T143110Z
UID:11375-1678309200-1678312800@www.dartfordandwhiteoaktri.co.uk
SUMMARY:Whiteoaks Wednesday Swim
DESCRIPTION:1 hour coached session at Whiteoaks 25m pool\, 6 lanes
URL:https://www.dartfordandwhiteoaktri.co.uk/event/whiteoaks-wednesday-swim-copy-copy/
LOCATION:White Oak Leisure Centre\, Hilda May Avenue\, Swanley\, BR8 7BT\, United Kingdom
CATEGORIES:Swim
END:VEVENT
BEGIN:VEVENT
DTSTART;TZID=Europe/London:20230303T120000
DTEND;TZID=Europe/London:20230303T130000
DTSTAMP:20260423T115502
CREATED:20230225T085358Z
LAST-MODIFIED:20230225T085557Z
UID:11354-1677844800-1677848400@www.dartfordandwhiteoaktri.co.uk
SUMMARY:Fairfield Swim
DESCRIPTION:25m coached pool session at Fairfield Leisure 12 – 1pm
URL:https://www.dartfordandwhiteoaktri.co.uk/event/fairfield-swim-2-copy/
LOCATION:Fairfield\, Lowfield St\, Dartford\, DA1 1JB\, United Kingdom
CATEGORIES:Swim
END:VEVENT
BEGIN:VEVENT
DTSTART;TZID=Europe/London:20230301T210000
DTEND;TZID=Europe/London:20230301T220000
DTSTAMP:20260423T115502
CREATED:20230225T142802Z
LAST-MODIFIED:20230225T142949Z
UID:11371-1677704400-1677708000@www.dartfordandwhiteoaktri.co.uk
SUMMARY:Whiteoaks Wednesday Swim
DESCRIPTION:1 hour coached session at Whiteoaks 25m pool\, 6 lanes
URL:https://www.dartfordandwhiteoaktri.co.uk/event/whiteoaks-wednesday-swim-copy/
LOCATION:White Oak Leisure Centre\, Hilda May Avenue\, Swanley\, BR8 7BT\, United Kingdom
CATEGORIES:Swim
END:VEVENT
BEGIN:VEVENT
DTSTART;TZID=Europe/London:20230226T190000
DTEND;TZID=Europe/London:20230226T200000
DTSTAMP:20260423T115502
CREATED:20230130T220814Z
LAST-MODIFIED:20230130T220814Z
UID:11128-1677438000-1677441600@www.dartfordandwhiteoaktri.co.uk
SUMMARY:Sunday Whiteoaks Swim
DESCRIPTION:25m coached pool session – 3 lanes
URL:https://www.dartfordandwhiteoaktri.co.uk/event/sunday-whiteoaks-swim/
LOCATION:White Oak Leisure Centre\, Hilda May Avenue\, Swanley\, BR8 7BT\, United Kingdom
CATEGORIES:Swim
END:VEVENT
BEGIN:VEVENT
DTSTART;TZID=Europe/London:20230224T120000
DTEND;TZID=Europe/London:20230224T130000
DTSTAMP:20260423T115502
CREATED:20230130T220607Z
LAST-MODIFIED:20230130T220607Z
UID:11124-1677240000-1677243600@www.dartfordandwhiteoaktri.co.uk
SUMMARY:Fairfield Swim
DESCRIPTION:25m coached pool session at Fairfield Leisure 12 – 1pm
URL:https://www.dartfordandwhiteoaktri.co.uk/event/fairfield-swim-2/
LOCATION:Fairfield\, Lowfield St\, Dartford\, DA1 1JB\, United Kingdom
CATEGORIES:Swim
END:VEVENT
BEGIN:VEVENT
DTSTART;TZID=Europe/London:20230222T210000
DTEND;TZID=Europe/London:20230222T220000
DTSTAMP:20260423T115502
CREATED:20230130T220239Z
LAST-MODIFIED:20230130T220239Z
UID:11118-1677099600-1677103200@www.dartfordandwhiteoaktri.co.uk
SUMMARY:Whiteoaks Wednesday Swim
DESCRIPTION:1 hour coached session at Whiteoaks 25m pool\, 6 lanes
URL:https://www.dartfordandwhiteoaktri.co.uk/event/whiteoaks-wednesday-swim/
LOCATION:White Oak Leisure Centre\, Hilda May Avenue\, Swanley\, BR8 7BT\, United Kingdom
CATEGORIES:Swim
END:VEVENT
BEGIN:VEVENT
DTSTART;TZID=Europe/London:20230215T210000
DTEND;TZID=Europe/London:20230215T220000
DTSTAMP:20260423T115502
CREATED:20230130T215120Z
LAST-MODIFIED:20230130T215120Z
UID:11104-1676494800-1676498400@www.dartfordandwhiteoaktri.co.uk
SUMMARY:Whiteoak Wednesday Swim
DESCRIPTION:25 m new pool\, with 6 lanes coached session
URL:https://www.dartfordandwhiteoaktri.co.uk/event/whiteoak-wednesday-swim/
LOCATION:White Oak Leisure Centre\, Hilda May Avenue\, Swanley\, BR8 7BT\, United Kingdom
CATEGORIES:Swim
END:VEVENT
BEGIN:VEVENT
DTSTART;TZID=Europe/London:20230210T120000
DTEND;TZID=Europe/London:20230210T130000
DTSTAMP:20260423T115502
CREATED:20230130T214742Z
LAST-MODIFIED:20230130T214742Z
UID:11098-1676030400-1676034000@www.dartfordandwhiteoaktri.co.uk
SUMMARY:Fairfield Swim
DESCRIPTION:Fairfield Swim 25m pool\, coached session 12:00 – 1pm
URL:https://www.dartfordandwhiteoaktri.co.uk/event/fairfield-swim/
LOCATION:Fairfield\, Lowfield St\, Dartford\, DA1 1JB\, United Kingdom
CATEGORIES:Swim
END:VEVENT
BEGIN:VEVENT
DTSTART;TZID=Europe/London:20230208T210000
DTEND;TZID=Europe/London:20230208T220000
DTSTAMP:20260423T115502
CREATED:20230130T214520Z
LAST-MODIFIED:20230130T221030Z
UID:11095-1675890000-1675893600@www.dartfordandwhiteoaktri.co.uk
SUMMARY:Wednesday Swim
DESCRIPTION:Wednesday swim in 25m pool \nSwim sessions are 6 lanes on Wednesday evenings 9:00 pm to 10:00 pm. \nWe are limiting each lane to 6 swimmers.
URL:https://www.dartfordandwhiteoaktri.co.uk/event/wednesday-swim/
LOCATION:White Oak Leisure Centre\, Hilda May Avenue\, Swanley\, BR8 7BT\, United Kingdom
CATEGORIES:Swim
END:VEVENT
BEGIN:VEVENT
DTSTART;TZID=Europe/London:20230201T210000
DTEND;TZID=Europe/London:20230201T220000
DTSTAMP:20260423T115502
CREATED:20230122T144238Z
LAST-MODIFIED:20230122T144516Z
UID:10994-1675285200-1675288800@www.dartfordandwhiteoaktri.co.uk
SUMMARY:Pool Swim White Oak
DESCRIPTION:Pool Swim New White Oak\nWednesday swim in 25m pool \nSwim sessions for the time being will be 6 lanes on Wednesday evenings 9:00 pm to 10:00 pm. \nWe are limiting each lane to 6 swimmers.
URL:https://www.dartfordandwhiteoaktri.co.uk/event/pool-swim-white-oak-23-11-22-2-2-copy/
LOCATION:White Oak Leisure Centre\, Hilda May Avenue\, Swanley\, BR8 7BT\, United Kingdom
CATEGORIES:Swim
ATTACH;FMTTYPE=image/jpeg:https://www.dartfordandwhiteoaktri.co.uk/wp-content/uploads/2020/08/newWhiteOakPool.jpg
END:VEVENT
BEGIN:VEVENT
DTSTART;TZID=Europe/London:20230129T190000
DTEND;TZID=Europe/London:20230129T200000
DTSTAMP:20260423T115502
CREATED:20230123T220641Z
LAST-MODIFIED:20230123T220833Z
UID:11022-1675018800-1675022400@www.dartfordandwhiteoaktri.co.uk
SUMMARY:Pool Swim White Oak
DESCRIPTION:Pool Swim White Oak\nSunday swim in 25m pool \nSwim sessions will be 3 lanes on Sunday evenings 7:00 pm to 8:00 pm. \nWe’re still limiting each lane to 6 swimmers.
URL:https://www.dartfordandwhiteoaktri.co.uk/event/pool-swim-white-oak-27-11-22-2-2/
LOCATION:White Oak Leisure Centre\, Hilda May Avenue\, Swanley\, BR8 7BT\, United Kingdom
CATEGORIES:Swim
ATTACH;FMTTYPE=image/jpeg:https://www.dartfordandwhiteoaktri.co.uk/wp-content/uploads/2020/08/newWhiteOakPool.jpg
END:VEVENT
BEGIN:VEVENT
DTSTART;TZID=Europe/London:20230127T120000
DTEND;TZID=Europe/London:20230127T130000
DTSTAMP:20260423T115502
CREATED:20221229T093731Z
LAST-MODIFIED:20221229T093843Z
UID:10709-1674820800-1674824400@www.dartfordandwhiteoaktri.co.uk
SUMMARY:Pool Swim Fairfield
DESCRIPTION:Pool Swim Fairfield\nWelcome back to Friday lunchtime coached pool swimming at Fairfield!  Swim sessions for the time being will be from 12:00 to 13:00. \nWe’ve now got 4 lanes available for the full one hour. \nLimiting to 6 people per lane.
URL:https://www.dartfordandwhiteoaktri.co.uk/event/pool-swim-fairfield-25-11-22-2-2-copy/
LOCATION:Fairfield\, Lowfield St\, Dartford\, DA1 1JB\, United Kingdom
CATEGORIES:Swim
ATTACH;FMTTYPE=image/jpeg:https://www.dartfordandwhiteoaktri.co.uk/wp-content/uploads/2017/11/race-pool.jpg
END:VEVENT
BEGIN:VEVENT
DTSTART;TZID=Europe/London:20230125T210000
DTEND;TZID=Europe/London:20230125T220000
DTSTAMP:20260423T115502
CREATED:20221229T094332Z
LAST-MODIFIED:20221229T094522Z
UID:10720-1674680400-1674684000@www.dartfordandwhiteoaktri.co.uk
SUMMARY:Pool Swim White Oak
DESCRIPTION:Pool Swim New White Oak\nWednesday swim in 25m pool \nSwim sessions for the time being will be 6 lanes on Wednesday evenings 9:00 pm to 10:00 pm. \nWe are limiting each lane to 6 swimmers.
URL:https://www.dartfordandwhiteoaktri.co.uk/event/pool-swim-white-oak-23-11-22-2-2/
LOCATION:White Oak Leisure Centre\, Hilda May Avenue\, Swanley\, BR8 7BT\, United Kingdom
CATEGORIES:Swim
ATTACH;FMTTYPE=image/jpeg:https://www.dartfordandwhiteoaktri.co.uk/wp-content/uploads/2020/08/newWhiteOakPool.jpg
END:VEVENT
BEGIN:VEVENT
DTSTART;TZID=Europe/London:20230122T190000
DTEND;TZID=Europe/London:20230122T200000
DTSTAMP:20260423T115502
CREATED:20221229T095323Z
LAST-MODIFIED:20221229T095417Z
UID:10731-1674414000-1674417600@www.dartfordandwhiteoaktri.co.uk
SUMMARY:Pool Swim White Oak
DESCRIPTION:Pool Swim White Oak\nSunday swim in 25m pool \nSwim sessions will be 3 lanes on Sunday evenings 7:00 pm to 8:00 pm. \nWe’re still limiting each lane to 6 swimmers.
URL:https://www.dartfordandwhiteoaktri.co.uk/event/pool-swim-white-oak-27-11-22-2-copy-copy/
LOCATION:White Oak Leisure Centre\, Hilda May Avenue\, Swanley\, BR8 7BT\, United Kingdom
CATEGORIES:Swim
ATTACH;FMTTYPE=image/jpeg:https://www.dartfordandwhiteoaktri.co.uk/wp-content/uploads/2020/08/newWhiteOakPool.jpg
END:VEVENT
BEGIN:VEVENT
DTSTART;TZID=Europe/London:20230120T120000
DTEND;TZID=Europe/London:20230120T130000
DTSTAMP:20260423T115502
CREATED:20221229T093435Z
LAST-MODIFIED:20221229T093658Z
UID:10705-1674216000-1674219600@www.dartfordandwhiteoaktri.co.uk
SUMMARY:Pool Swim Fairfield
DESCRIPTION:Pool Swim Fairfield\nWelcome back to Friday lunchtime coached pool swimming at Fairfield!  Swim sessions for the time being will be from 12:00 to 13:00. \nWe’ve now got 4 lanes available for the full one hour. \nLimiting to 6 people per lane.
URL:https://www.dartfordandwhiteoaktri.co.uk/event/pool-swim-fairfield-25-11-22-2-2/
LOCATION:Fairfield\, Lowfield St\, Dartford\, DA1 1JB\, United Kingdom
CATEGORIES:Swim
ATTACH;FMTTYPE=image/jpeg:https://www.dartfordandwhiteoaktri.co.uk/wp-content/uploads/2017/11/race-pool.jpg
END:VEVENT
BEGIN:VEVENT
DTSTART;TZID=Europe/London:20230118T210000
DTEND;TZID=Europe/London:20230118T220000
DTSTAMP:20260423T115502
CREATED:20221229T094146Z
LAST-MODIFIED:20221229T094312Z
UID:10716-1674075600-1674079200@www.dartfordandwhiteoaktri.co.uk
SUMMARY:Pool Swim White Oak
DESCRIPTION:Pool Swim New White Oak\nWednesday swim in 25m pool \nSwim sessions for the time being will be 6 lanes on Wednesday evenings 9:00 pm to 10:00 pm. \nWe are limiting each lane to 6 swimmers.
URL:https://www.dartfordandwhiteoaktri.co.uk/event/pool-swim-white-oak-23-11-22-2-copy/
LOCATION:White Oak Leisure Centre\, Hilda May Avenue\, Swanley\, BR8 7BT\, United Kingdom
CATEGORIES:Swim
ATTACH;FMTTYPE=image/jpeg:https://www.dartfordandwhiteoaktri.co.uk/wp-content/uploads/2020/08/newWhiteOakPool.jpg
END:VEVENT
BEGIN:VEVENT
DTSTART;TZID=Europe/London:20230115T190000
DTEND;TZID=Europe/London:20230115T200000
DTSTAMP:20260423T115502
CREATED:20221229T095122Z
LAST-MODIFIED:20221229T095236Z
UID:10727-1673809200-1673812800@www.dartfordandwhiteoaktri.co.uk
SUMMARY:Pool Swim White Oak
DESCRIPTION:Pool Swim White Oak\nSunday swim in 25m pool \nSwim sessions will be 3 lanes on Sunday evenings 7:00 pm to 8:00 pm. \nWe’re still limiting each lane to 6 swimmers.
URL:https://www.dartfordandwhiteoaktri.co.uk/event/pool-swim-white-oak-27-11-22-2-copy/
LOCATION:White Oak Leisure Centre\, Hilda May Avenue\, Swanley\, BR8 7BT\, United Kingdom
CATEGORIES:Swim
ATTACH;FMTTYPE=image/jpeg:https://www.dartfordandwhiteoaktri.co.uk/wp-content/uploads/2020/08/newWhiteOakPool.jpg
END:VEVENT
BEGIN:VEVENT
DTSTART;TZID=Europe/London:20230113T120000
DTEND;TZID=Europe/London:20230113T130000
DTSTAMP:20260423T115502
CREATED:20221207T193518Z
LAST-MODIFIED:20221229T092352Z
UID:10630-1673611200-1673614800@www.dartfordandwhiteoaktri.co.uk
SUMMARY:Pool Swim Fairfield
DESCRIPTION:Pool Swim Fairfield\nWelcome back to Friday lunchtime coached pool swimming at Fairfield!  Swim sessions for the time being will be from 12:00 to 13:00. \nWe’ve now got 4 lanes available for the full one hour. \nLimiting to 6 people per lane.
URL:https://www.dartfordandwhiteoaktri.co.uk/event/pool-swim-fairfield-25-11-22-2/
LOCATION:Fairfield\, Lowfield St\, Dartford\, DA1 1JB\, United Kingdom
CATEGORIES:Swim
ATTACH;FMTTYPE=image/jpeg:https://www.dartfordandwhiteoaktri.co.uk/wp-content/uploads/2017/11/race-pool.jpg
END:VEVENT
BEGIN:VEVENT
DTSTART;TZID=Europe/London:20230111T210000
DTEND;TZID=Europe/London:20230111T220000
DTSTAMP:20260423T115502
CREATED:20221229T093955Z
LAST-MODIFIED:20221229T094123Z
UID:10712-1673470800-1673474400@www.dartfordandwhiteoaktri.co.uk
SUMMARY:Pool Swim White Oak
DESCRIPTION:Pool Swim New White Oak\nWednesday swim in 25m pool \nSwim sessions for the time being will be 6 lanes on Wednesday evenings 9:00 pm to 10:00 pm. \nWe are limiting each lane to 6 swimmers.
URL:https://www.dartfordandwhiteoaktri.co.uk/event/pool-swim-white-oak-23-11-22-2/
LOCATION:White Oak Leisure Centre\, Hilda May Avenue\, Swanley\, BR8 7BT\, United Kingdom
CATEGORIES:Swim
ATTACH;FMTTYPE=image/jpeg:https://www.dartfordandwhiteoaktri.co.uk/wp-content/uploads/2020/08/newWhiteOakPool.jpg
END:VEVENT
BEGIN:VEVENT
DTSTART;TZID=Europe/London:20230108T190000
DTEND;TZID=Europe/London:20230108T200000
DTSTAMP:20260423T115502
CREATED:20221229T094711Z
LAST-MODIFIED:20221229T094830Z
UID:10724-1673204400-1673208000@www.dartfordandwhiteoaktri.co.uk
SUMMARY:Pool Swim White Oak
DESCRIPTION:Pool Swim White Oak\nSunday swim in 25m pool \nSwim sessions will be 3 lanes on Sunday evenings 7:00 pm to 8:00 pm. \nWe’re still limiting each lane to 6 swimmers.
URL:https://www.dartfordandwhiteoaktri.co.uk/event/pool-swim-white-oak-27-11-22-2/
LOCATION:White Oak Leisure Centre\, Hilda May Avenue\, Swanley\, BR8 7BT\, United Kingdom
CATEGORIES:Swim
ATTACH;FMTTYPE=image/jpeg:https://www.dartfordandwhiteoaktri.co.uk/wp-content/uploads/2020/08/newWhiteOakPool.jpg
END:VEVENT
BEGIN:VEVENT
DTSTART;TZID=Europe/London:20230106T120000
DTEND;TZID=Europe/London:20230106T130000
DTSTAMP:20260423T115502
CREATED:20221128T145458Z
LAST-MODIFIED:20221128T145647Z
UID:10524-1673006400-1673010000@www.dartfordandwhiteoaktri.co.uk
SUMMARY:Pool Swim Fairfield
DESCRIPTION:Pool Swim Fairfield\nWelcome back to Friday lunchtime coached pool swimming at Fairfield!  Swim sessions for the time being will be from 12:00 to 13:00. \nWe’ve now got 4 lanes available for the full one hour. \nLimiting to 6 people per lane.
URL:https://www.dartfordandwhiteoaktri.co.uk/event/pool-swim-fairfield-25-11-22-copy-copy-copy-copy-copy-copy/
LOCATION:Fairfield\, Lowfield St\, Dartford\, DA1 1JB\, United Kingdom
CATEGORIES:Swim
ATTACH;FMTTYPE=image/jpeg:https://www.dartfordandwhiteoaktri.co.uk/wp-content/uploads/2017/11/race-pool.jpg
END:VEVENT
BEGIN:VEVENT
DTSTART;TZID=Europe/London:20230104T210000
DTEND;TZID=Europe/London:20230104T220000
DTSTAMP:20260423T115502
CREATED:20221128T145715Z
LAST-MODIFIED:20221128T150716Z
UID:10529-1672866000-1672869600@www.dartfordandwhiteoaktri.co.uk
SUMMARY:Pool Swim White Oak
DESCRIPTION:Pool Swim New White Oak\nWednesday swim in 25m pool \nSwim sessions for the time being will be 6 lanes on Wednesday evenings 9:00 pm to 10:00 pm. \nWe are limiting each lane to 6 swimmers.
URL:https://www.dartfordandwhiteoaktri.co.uk/event/pool-swim-white-oak-23-11-22-copy-copy-copy-copy/
LOCATION:White Oak Leisure Centre\, Hilda May Avenue\, Swanley\, BR8 7BT\, United Kingdom
CATEGORIES:Swim
ATTACH;FMTTYPE=image/jpeg:https://www.dartfordandwhiteoaktri.co.uk/wp-content/uploads/2020/08/newWhiteOakPool.jpg
END:VEVENT
BEGIN:VEVENT
DTSTART;TZID=Europe/London:20221230T120000
DTEND;TZID=Europe/London:20221230T130000
DTSTAMP:20260423T115502
CREATED:20221128T145322Z
LAST-MODIFIED:20221128T145520Z
UID:10521-1672401600-1672405200@www.dartfordandwhiteoaktri.co.uk
SUMMARY:Pool Swim Fairfield
DESCRIPTION:Pool Swim Fairfield\nWelcome back to Friday lunchtime coached pool swimming at Fairfield!  Swim sessions for the time being will be from 12:00 to 13:00. \nWe’ve now got 4 lanes available for the full one hour. \nLimiting to 6 people per lane.
URL:https://www.dartfordandwhiteoaktri.co.uk/event/pool-swim-fairfield-25-11-22-copy-copy-copy-copy-copy/
LOCATION:Fairfield\, Lowfield St\, Dartford\, DA1 1JB\, United Kingdom
CATEGORIES:Swim
ATTACH;FMTTYPE=image/jpeg:https://www.dartfordandwhiteoaktri.co.uk/wp-content/uploads/2017/11/race-pool.jpg
END:VEVENT
BEGIN:VEVENT
DTSTART;TZID=Europe/London:20221223T120000
DTEND;TZID=Europe/London:20221223T130000
DTSTAMP:20260423T115502
CREATED:20221128T145156Z
LAST-MODIFIED:20221128T145252Z
UID:10518-1671796800-1671800400@www.dartfordandwhiteoaktri.co.uk
SUMMARY:Pool Swim Fairfield
DESCRIPTION:Pool Swim Fairfield\nWelcome back to Friday lunchtime coached pool swimming at Fairfield!  Swim sessions for the time being will be from 12:00 to 13:00. \nWe’ve now got 4 lanes available for the full one hour. \nLimiting to 6 people per lane.
URL:https://www.dartfordandwhiteoaktri.co.uk/event/pool-swim-fairfield-25-11-22-copy-copy-copy-copy/
LOCATION:Fairfield\, Lowfield St\, Dartford\, DA1 1JB\, United Kingdom
CATEGORIES:Swim
ATTACH;FMTTYPE=image/jpeg:https://www.dartfordandwhiteoaktri.co.uk/wp-content/uploads/2017/11/race-pool.jpg
END:VEVENT
END:VCALENDAR